BEGIN:VCALENDAR
VERSION:2.0
PRODID:-//Treckerfreunde Rodenberg - ECPv6.15.20//NONSGML v1.0//EN
CALSCALE:GREGORIAN
METHOD:PUBLISH
X-WR-CALNAME:Treckerfreunde Rodenberg
X-ORIGINAL-URL:https://treckerfreunde-rodenberg.de
X-WR-CALDESC:Veranstaltungen für Treckerfreunde Rodenberg
REFRESH-INTERVAL;VALUE=DURATION:PT1H
X-Robots-Tag:noindex
X-PUBLISHED-TTL:PT1H
BEGIN:VTIMEZONE
TZID:UTC
BEGIN:STANDARD
TZOFFSETFROM:+0000
TZOFFSETTO:+0000
TZNAME:UTC
DTSTART:20220101T000000
END:STANDARD
END:VTIMEZONE
BEGIN:VEVENT
DTSTART;TZID=UTC:20230501T110000
DTEND;TZID=UTC:20230501T180000
DTSTAMP:20260422T090524
CREATED:20221210T134617Z
LAST-MODIFIED:20221210T134617Z
UID:439-1682938800-1682964000@treckerfreunde-rodenberg.de
SUMMARY:Maifest
DESCRIPTION:
URL:https://treckerfreunde-rodenberg.de/event/maifest/
LOCATION:Amtsplatz\, Amtsstrasse 6\, Rodenberg\, Niedersachsen\, 31552\, Deutschland
END:VEVENT
BEGIN:VEVENT
DTSTART;TZID=UTC:20230525T190000
DTEND;TZID=UTC:20230525T230000
DTSTAMP:20260422T090524
CREATED:20221210T134537Z
LAST-MODIFIED:20221210T134537Z
UID:437-1685041200-1685055600@treckerfreunde-rodenberg.de
SUMMARY:Stammtisch
DESCRIPTION:
URL:https://treckerfreunde-rodenberg.de/event/stammtisch-5/
LOCATION:Treckerstammtisch\, Grover Str.\, Rodenberg\, Niedersachsen\, 31552\, Deutschland
END:VEVENT
BEGIN:VEVENT
DTSTART;TZID=UTC:20230527T140000
DTEND;TZID=UTC:20230527T220000
DTSTAMP:20260422T090524
CREATED:20221210T134827Z
LAST-MODIFIED:20221210T134827Z
UID:441-1685196000-1685224800@treckerfreunde-rodenberg.de
SUMMARY:Pfingstausfahrt durchs Schaumburger Land
DESCRIPTION:
URL:https://treckerfreunde-rodenberg.de/event/pfingstausfahrt-durchs-schaumburger-land/
LOCATION:Niedersachsen
END:VEVENT
END:VCALENDAR