BEGIN:VCALENDAR
VERSION:2.0
PRODID:-//Treckerfreunde Rodenberg - ECPv6.15.20//NONSGML v1.0//EN
CALSCALE:GREGORIAN
METHOD:PUBLISH
X-ORIGINAL-URL:https://treckerfreunde-rodenberg.de
X-WR-CALDESC:Veranstaltungen für Treckerfreunde Rodenberg
REFRESH-INTERVAL;VALUE=DURATION:PT1H
X-Robots-Tag:noindex
X-PUBLISHED-TTL:PT1H
BEGIN:VTIMEZONE
TZID:UTC
BEGIN:STANDARD
TZOFFSETFROM:+0000
TZOFFSETTO:+0000
TZNAME:UTC
DTSTART:20210101T000000
END:STANDARD
END:VTIMEZONE
BEGIN:VEVENT
DTSTART;TZID=UTC:20221124T190000
DTEND;TZID=UTC:20221124T223000
DTSTAMP:20260422T190006
CREATED:20220503T205851Z
LAST-MODIFIED:20220503T205851Z
UID:325-1669316400-1669329000@treckerfreunde-rodenberg.de
SUMMARY:Treckerstammtisch
DESCRIPTION:
URL:https://treckerfreunde-rodenberg.de/event/treckerstammtisch-10/
LOCATION:Niedersachsen
END:VEVENT
BEGIN:VEVENT
DTSTART;TZID=UTC:20221126T110000
DTEND;TZID=UTC:20221127T180000
DTSTAMP:20260422T190006
CREATED:20221113T185942Z
LAST-MODIFIED:20221113T185942Z
UID:397-1669460400-1669572000@treckerfreunde-rodenberg.de
SUMMARY:Weihnachtsmarkt in Rodenberg
DESCRIPTION:
URL:https://treckerfreunde-rodenberg.de/event/weihnachtsmarkt-in-rodenberg/
LOCATION:Amtsplatz\, Amtsstrasse 6\, Rodenberg\, Niedersachsen\, 31552\, Deutschland
END:VEVENT
END:VCALENDAR