BEGIN:VCALENDAR
VERSION:2.0
PRODID:-//Treckerfreunde Rodenberg - ECPv6.15.20//NONSGML v1.0//EN
CALSCALE:GREGORIAN
METHOD:PUBLISH
X-ORIGINAL-URL:https://treckerfreunde-rodenberg.de
X-WR-CALDESC:Veranstaltungen für Treckerfreunde Rodenberg
REFRESH-INTERVAL;VALUE=DURATION:PT1H
X-Robots-Tag:noindex
X-PUBLISHED-TTL:PT1H
BEGIN:VTIMEZONE
TZID:UTC
BEGIN:STANDARD
TZOFFSETFROM:+0000
TZOFFSETTO:+0000
TZNAME:UTC
DTSTART:20210101T000000
END:STANDARD
END:VTIMEZONE
BEGIN:VEVENT
DTSTART;TZID=UTC:20220604T140000
DTEND;TZID=UTC:20220604T220000
DTSTAMP:20260423T020822
CREATED:20220128T104357Z
LAST-MODIFIED:20220522T194228Z
UID:243-1654351200-1654380000@treckerfreunde-rodenberg.de
SUMMARY:Pfingstausfahrt
DESCRIPTION:
URL:https://treckerfreunde-rodenberg.de/event/pfingstausfahrt/
LOCATION:Niedersachsen
END:VEVENT
BEGIN:VEVENT
DTSTART;TZID=UTC:20220617T090000
DTEND;TZID=UTC:20220617T170000
DTSTAMP:20260423T020822
CREATED:20220503T205429Z
LAST-MODIFIED:20220503T205429Z
UID:315-1655456400-1655485200@treckerfreunde-rodenberg.de
SUMMARY:Tagesfahrt nach Detmold
DESCRIPTION:
URL:https://treckerfreunde-rodenberg.de/event/tagesfahrt-nach-detmold/
LOCATION:Niedersachsen
END:VEVENT
BEGIN:VEVENT
DTSTART;TZID=UTC:20220623T190000
DTEND;TZID=UTC:20220623T223000
DTSTAMP:20260423T020822
CREATED:20220503T204720Z
LAST-MODIFIED:20220503T204720Z
UID:311-1656010800-1656023400@treckerfreunde-rodenberg.de
SUMMARY:Treckerstammtisch
DESCRIPTION:
URL:https://treckerfreunde-rodenberg.de/event/treckerstammtisch-5/
LOCATION:Niedersachsen
END:VEVENT
END:VCALENDAR