BEGIN:VCALENDAR
VERSION:2.0
PRODID:-//Treckerfreunde Rodenberg - ECPv6.15.20//NONSGML v1.0//EN
CALSCALE:GREGORIAN
METHOD:PUBLISH
X-WR-CALNAME:Treckerfreunde Rodenberg
X-ORIGINAL-URL:https://treckerfreunde-rodenberg.de
X-WR-CALDESC:Veranstaltungen für Treckerfreunde Rodenberg
REFRESH-INTERVAL;VALUE=DURATION:PT1H
X-Robots-Tag:noindex
X-PUBLISHED-TTL:PT1H
BEGIN:VTIMEZONE
TZID:UTC
BEGIN:STANDARD
TZOFFSETFROM:+0000
TZOFFSETTO:+0000
TZNAME:UTC
DTSTART:20220101T000000
END:STANDARD
END:VTIMEZONE
BEGIN:VEVENT
DTSTART;TZID=UTC:20230427T190000
DTEND;TZID=UTC:20230427T230000
DTSTAMP:20260422T120105
CREATED:20221210T134451Z
LAST-MODIFIED:20221210T134451Z
UID:435-1682622000-1682636400@treckerfreunde-rodenberg.de
SUMMARY:Stammtisch
DESCRIPTION:
URL:https://treckerfreunde-rodenberg.de/event/stammtisch-4/
LOCATION:Treckerstammtisch\, Grover Str.\, Rodenberg\, Niedersachsen\, 31552\, Deutschland
END:VEVENT
END:VCALENDAR