BEGIN:VCALENDAR
VERSION:2.0
PRODID:-//Treckerfreunde Rodenberg - ECPv6.15.20//NONSGML v1.0//EN
CALSCALE:GREGORIAN
METHOD:PUBLISH
X-ORIGINAL-URL:https://treckerfreunde-rodenberg.de
X-WR-CALDESC:Veranstaltungen für Treckerfreunde Rodenberg
REFRESH-INTERVAL;VALUE=DURATION:PT1H
X-Robots-Tag:noindex
X-PUBLISHED-TTL:PT1H
BEGIN:VTIMEZONE
TZID:UTC
BEGIN:STANDARD
TZOFFSETFROM:+0000
TZOFFSETTO:+0000
TZNAME:UTC
DTSTART:20210101T000000
END:STANDARD
END:VTIMEZONE
BEGIN:VEVENT
DTSTART;TZID=UTC:20221027T190000
DTEND;TZID=UTC:20221027T223000
DTSTAMP:20260422T214835
CREATED:20220503T205807Z
LAST-MODIFIED:20220503T205807Z
UID:323-1666897200-1666909800@treckerfreunde-rodenberg.de
SUMMARY:Treckerstammtisch
DESCRIPTION:
URL:https://treckerfreunde-rodenberg.de/event/treckerstammtisch-9/
LOCATION:Niedersachsen
END:VEVENT
END:VCALENDAR