BEGIN:VCALENDAR
VERSION:2.0
PRODID:-//Treckerfreunde Rodenberg - ECPv6.15.20//NONSGML v1.0//EN
CALSCALE:GREGORIAN
METHOD:PUBLISH
X-ORIGINAL-URL:https://treckerfreunde-rodenberg.de
X-WR-CALDESC:Veranstaltungen für Treckerfreunde Rodenberg
REFRESH-INTERVAL;VALUE=DURATION:PT1H
X-Robots-Tag:noindex
X-PUBLISHED-TTL:PT1H
BEGIN:VTIMEZONE
TZID:UTC
BEGIN:STANDARD
TZOFFSETFROM:+0000
TZOFFSETTO:+0000
TZNAME:UTC
DTSTART:20210101T000000
END:STANDARD
END:VTIMEZONE
BEGIN:VEVENT
DTSTART;TZID=UTC:20220909T170000
DTEND;TZID=UTC:20220909T220000
DTSTAMP:20260422T230829
CREATED:20220817T133021Z
LAST-MODIFIED:20220817T133021Z
UID:332-1662742800-1662760800@treckerfreunde-rodenberg.de
SUMMARY:Feldttag bei den Lauenauer Landburschen
DESCRIPTION:
URL:https://treckerfreunde-rodenberg.de/event/feldttag-bei-den-lauenauer-landburschen/
LOCATION:Gut Lübbersen\, Lübbersen 1\, Lauenau\, Niedersachsen\, 31867\, Deutschland
END:VEVENT
END:VCALENDAR