BEGIN:VCALENDAR
VERSION:2.0
PRODID:-//Treckerfreunde Rodenberg - ECPv6.15.20//NONSGML v1.0//EN
CALSCALE:GREGORIAN
METHOD:PUBLISH
X-WR-CALNAME:Treckerfreunde Rodenberg
X-ORIGINAL-URL:https://treckerfreunde-rodenberg.de
X-WR-CALDESC:Veranstaltungen für Treckerfreunde Rodenberg
REFRESH-INTERVAL;VALUE=DURATION:PT1H
X-Robots-Tag:noindex
X-PUBLISHED-TTL:PT1H
BEGIN:VTIMEZONE
TZID:UTC
BEGIN:STANDARD
TZOFFSETFROM:+0000
TZOFFSETTO:+0000
TZNAME:UTC
DTSTART:20210101T000000
END:STANDARD
END:VTIMEZONE
BEGIN:VEVENT
DTSTART;TZID=UTC:20220818T190000
DTEND;TZID=UTC:20220818T223000
DTSTAMP:20260423T003151
CREATED:20220503T205652Z
LAST-MODIFIED:20220503T205652Z
UID:319-1660849200-1660861800@treckerfreunde-rodenberg.de
SUMMARY:Treckerstammtisch
DESCRIPTION:
URL:https://treckerfreunde-rodenberg.de/event/treckerstammtisch-7/
LOCATION:Niedersachsen
END:VEVENT
END:VCALENDAR